Package: simpIntLists Version: 1.45.0 Command: /home/biocbuild/bbs-3.22-bioc/R/bin/R CMD build --keep-empty-dirs --no-resave-data simpIntLists StartedAt: 2025-07-10 11:43:03 -0400 (Thu, 10 Jul 2025) EndedAt: 2025-07-10 11:43:12 -0400 (Thu, 10 Jul 2025) EllapsedTime: 9.3 seconds RetCode: 0 Status: OK PackageFile: simpIntLists_1.45.0.tar.gz PackageFileSize: 4.365 MiB