Package: simpIntLists Version: 1.45.0 Command: /home/biocbuild/bbs-3.22-bioc/R/bin/R CMD INSTALL simpIntLists StartedAt: 2025-07-10 10:55:33 -0400 (Thu, 10 Jul 2025) EndedAt: 2025-07-10 10:55:36 -0400 (Thu, 10 Jul 2025) EllapsedTime: 3.3 seconds RetCode: 0 Status: OK