Package: zebrafishRNASeq Version: 1.29.0 Command: /home/biocbuild/bbs-3.22-bioc/R/bin/R CMD build --keep-empty-dirs --no-resave-data zebrafishRNASeq StartedAt: 2025-07-10 11:49:04 -0400 (Thu, 10 Jul 2025) EndedAt: 2025-07-10 11:49:07 -0400 (Thu, 10 Jul 2025) EllapsedTime: 3.5 seconds RetCode: 0 Status: OK PackageFile: zebrafishRNASeq_1.29.0.tar.gz PackageFileSize: 429 KiB