Package: ExpressionNormalizationWorkflow Version: 1.37.0 Command: /home/biocbuild/bbs-3.23-bioc/R/bin/R CMD build --keep-empty-dirs --no-resave-data ExpressionNormalizationWorkflow StartedAt: 2025-10-31 10:08:46 -0400 (Fri, 31 Oct 2025) EndedAt: 2025-10-31 10:13:35 -0400 (Fri, 31 Oct 2025) EllapsedTime: 288.9 seconds RetCode: 0 Status: OK PackageFile: ExpressionNormalizationWorkflow_1.37.0.tar.gz PackageFileSize: 3.419 MiB