Package: ExpressionNormalizationWorkflow Version: 1.37.0 Command: /home/biocbuild/bbs-3.23-bioc/R/bin/R CMD INSTALL ExpressionNormalizationWorkflow StartedAt: 2025-10-31 10:05:51 -0400 (Fri, 31 Oct 2025) EndedAt: 2025-10-31 10:06:12 -0400 (Fri, 31 Oct 2025) EllapsedTime: 21.2 seconds RetCode: 0 Status: OK