Package: RnaSeqGeneEdgeRQL Version: 1.33.1 Command: /home/biocbuild/bbs-3.22-bioc/R/bin/R CMD INSTALL RnaSeqGeneEdgeRQL StartedAt: 2025-10-07 13:00:18 -0400 (Tue, 07 Oct 2025) EndedAt: 2025-10-07 13:00:27 -0400 (Tue, 07 Oct 2025) EllapsedTime: 9.1 seconds RetCode: 0 Status: OK