Package: SingscoreAMLMutations Version: 1.27.0 Command: /home/biocbuild/bbs-3.23-bioc/R/bin/R CMD build --keep-empty-dirs --no-resave-data SingscoreAMLMutations StartedAt: 2025-11-18 13:11:11 -0500 (Tue, 18 Nov 2025) EndedAt: 2025-11-18 13:15:49 -0500 (Tue, 18 Nov 2025) EllapsedTime: 278.7 seconds RetCode: 1 Status: ERROR PackageFile: None PackageFileSize: NA