Package: SingscoreAMLMutations Version: 1.27.0 Command: /home/biocbuild/bbs-3.23-bioc/R/bin/R CMD INSTALL SingscoreAMLMutations StartedAt: 2025-11-18 13:00:31 -0500 (Tue, 18 Nov 2025) EndedAt: 2025-11-18 13:01:17 -0500 (Tue, 18 Nov 2025) EllapsedTime: 45.7 seconds RetCode: 0 Status: OK