Package: TCGAWorkflow Version: 1.33.0 Command: /home/biocbuild/bbs-3.22-bioc/R/bin/R CMD build --keep-empty-dirs --no-resave-data TCGAWorkflow StartedAt: 2025-07-18 13:10:59 -0400 (Fri, 18 Jul 2025) EndedAt: 2025-07-18 13:11:00 -0400 (Fri, 18 Jul 2025) EllapsedTime: 1.0 seconds RetCode: 1 Status: ERROR PackageFile: None PackageFileSize: NA