Package: chipseqDB Version: 1.33.0 Command: /Library/Frameworks/R.framework/Resources/bin/R CMD INSTALL chipseqDB StartedAt: 2025-10-14 13:00:19 -0400 (Tue, 14 Oct 2025) EndedAt: 2025-10-14 13:00:23 -0400 (Tue, 14 Oct 2025) EllapsedTime: 3.9 seconds RetCode: 0 Status: OK