Package: csawUsersGuide Version: 1.27.0 Command: /home/biocbuild/bbs-3.23-bioc/R/bin/R CMD build --keep-empty-dirs --no-resave-data csawUsersGuide StartedAt: 2025-10-31 10:08:46 -0400 (Fri, 31 Oct 2025) EndedAt: 2025-10-31 10:08:51 -0400 (Fri, 31 Oct 2025) EllapsedTime: 5.0 seconds RetCode: 0 Status: OK PackageFile: csawUsersGuide_1.27.0.tar.gz PackageFileSize: 35.63 KiB