Package: csawUsersGuide Version: 1.27.0 Command: /home/biocbuild/bbs-3.23-bioc/R/bin/R CMD INSTALL csawUsersGuide StartedAt: 2025-10-31 10:05:36 -0400 (Fri, 31 Oct 2025) EndedAt: 2025-10-31 10:05:37 -0400 (Fri, 31 Oct 2025) EllapsedTime: 1.1 seconds RetCode: 0 Status: OK