Package: cytofWorkflow Version: 1.33.0 Command: /home/biocbuild/bbs-3.22-bioc/R/bin/R CMD build --keep-empty-dirs --no-resave-data cytofWorkflow StartedAt: 2025-10-07 13:04:45 -0400 (Tue, 07 Oct 2025) EndedAt: 2025-10-07 13:09:39 -0400 (Tue, 07 Oct 2025) EllapsedTime: 294.1 seconds RetCode: 0 Status: OK PackageFile: cytofWorkflow_1.33.0.tar.gz PackageFileSize: 6.575 MiB