Package: fluentGenomics Version: 1.23.0 Command: /home/biocbuild/bbs-3.23-bioc/R/bin/R CMD build --keep-empty-dirs --no-resave-data fluentGenomics StartedAt: 2025-11-07 13:04:22 -0500 (Fri, 07 Nov 2025) EndedAt: 2025-11-07 13:07:32 -0500 (Fri, 07 Nov 2025) EllapsedTime: 190.1 seconds RetCode: 0 Status: OK PackageFile: fluentGenomics_1.23.0.tar.gz PackageFileSize: 5.457 MiB