Package: fluentGenomics Version: 1.21.0 Command: /home/biocbuild/bbs-3.22-bioc/R/bin/R CMD build --keep-empty-dirs --no-resave-data fluentGenomics StartedAt: 2025-07-18 13:04:21 -0400 (Fri, 18 Jul 2025) EndedAt: 2025-07-18 13:07:47 -0400 (Fri, 18 Jul 2025) EllapsedTime: 205.1 seconds RetCode: 0 Status: OK PackageFile: fluentGenomics_1.21.0.tar.gz PackageFileSize: 5.457 MiB