############################################################################## ############################################################################## ### ### Running command: ### ### /home/biocbuild/bbs-3.23-bioc/R/bin/R CMD INSTALL methylationArrayAnalysis ### ############################################################################## ############################################################################## * installing to library ‘/home/biocbuild/bbs-3.23-bioc/R/site-library’ ERROR: dependencies ‘missMethyl’, ‘minfiData’, ‘DMRcate’ are not available for package ‘methylationArrayAnalysis’ Perhaps try a variation of: install.packages(c('missMethyl', 'minfiData', 'DMRcate')) * removing ‘/home/biocbuild/bbs-3.23-bioc/R/site-library/methylationArrayAnalysis’