Package: methylationArrayAnalysis Version: 1.35.0 Command: /home/biocbuild/bbs-3.23-bioc/R/bin/R CMD INSTALL methylationArrayAnalysis StartedAt: 2025-10-31 10:08:33 -0400 (Fri, 31 Oct 2025) EndedAt: 2025-10-31 10:08:34 -0400 (Fri, 31 Oct 2025) EllapsedTime: 0.2 seconds RetCode: 1 Status: ERROR