Back to Workflows build report for BioC 3.23

This page was generated on 2025-11-04 16:30 -0500 (Tue, 04 Nov 2025).

HostnameOSArch (*)R versionInstalled pkgs
nebbiolo1Linux (Ubuntu 24.04.3 LTS)x86_64R Under development (unstable) (2025-10-20 r88955) -- "Unsuffered Consequences" 4815
Click on any hostname to see more info about the system (e.g. compilers)      (*) as reported by 'uname -p', except on Windows and Mac OS X

All results for package rnaseqGene


To the developers/maintainers of the rnaseqGene package:
- Use the following Renviron settings to reproduce errors and warnings.
- If 'R CMD check' started to fail recently on the Linux builder(s) over a missing dependency, add the missing dependency to 'Suggests:' in your DESCRIPTION file. See Renviron.bioc for more information.

raw results

Package 21/28HostnameOS / ArchINSTALLBUILD
rnaseqGene 1.35.0  (landing page)
Michael Love
Snapshot Date: 2025-11-04 12:45 -0500 (Tue, 04 Nov 2025)
git_url: https://git.bioconductor.org/packages/rnaseqGene
git_branch: devel
git_last_commit: 22281dd
git_last_commit_date: 2025-10-29 09:46:57 -0500 (Wed, 29 Oct 2025)
nebbiolo1Linux (Ubuntu 24.04.3 LTS) / x86_64  OK    OK  NO, package depends on 'tximeta' which is not available