Package: seqpac Version: 1.9.2 Command: /home/biocbuild/bbs-3.22-bioc/R/bin/R CMD build --keep-empty-dirs --no-resave-data seqpac StartedAt: 2025-10-21 13:10:41 -0400 (Tue, 21 Oct 2025) EndedAt: 2025-10-21 13:14:19 -0400 (Tue, 21 Oct 2025) EllapsedTime: 217.8 seconds RetCode: 0 Status: OK PackageFile: seqpac_1.9.2.tar.gz PackageFileSize: 3.094 MiB