Back to the "Multiple platform build/check report"
| Package 149/188 | OS | Arch | BUILD | CHECK | BUILD BIN | 
| Resourcerer1.8.0Jianhua Zhang | Linux (SUSE 9.2) | x86_64 | OK | [ OK ] | |
| Linux (SUSE 9.2) | i686 | OK | OK | ||
| Solaris 2.9 | sparc | OK | OK | ||
| Windows Server 2003 | x86_64 | OK | OK | OK | 
| Package: Resourcerer | 
| Version: 1.8.0 | 
| Command: /loc/biocbuild/1.9d/R/bin/R CMD check Resourcerer_1.8.0.tar.gz | 
| RetCode: 0 | 
| Time: 97.8 seconds | 
| Status: OK | 
| CheckDir: Resourcerer.Rcheck | 
| Warnings: 0 | 
* checking for working latex ... OK * using log directory '/loc/biocbuild/1.9d/Rpacks/Resourcerer.Rcheck' * using R version 2.4.0 (2006-10-03) * checking for file 'Resourcerer/DESCRIPTION' ... OK * this is package 'Resourcerer' version '1.8.0' * checking package dependencies ... OK * checking if this is a source package ... OK * checking whether package 'Resourcerer' can be installed ... OK * checking package directory ... OK * checking for portable file names ... OK * checking for sufficient/correct file permissions ... OK * checking DESCRIPTION meta-information ... OK * checking top-level files ... OK * checking index information ... OK * checking package subdirectories ... OK * checking R files for syntax errors ... OK * checking R files for non-ASCII characters ... OK * checking whether the package can be loaded ... OK * checking whether the package can be loaded with stated dependencies ... OK * checking whether the name space can be loaded with stated dependencies ... OK * checking S3 generic/method consistency ... OK * checking replacement functions ... OK * checking foreign function calls ... OK * checking R code for possible problems ... OK * checking Rd files ... OK * checking Rd cross-references ... OK * checking for missing documentation entries ... OK * checking for code/documentation mismatches ... OK * checking Rd \usage sections ... OK * creating Resourcerer-Ex.R ... OK * checking examples ... OK * checking package vignettes in 'inst/doc' ... OK * creating Resourcerer-manual.tex ... OK * checking Resourcerer-manual.tex ... OK
Resourcerer.Rcheck/00install.out:
* Installing *source* package 'Resourcerer' ...
** R
** inst
** preparing package for lazy loading
Loading required package: AnnBuilder
Loading required package: Biobase
Loading required package: tools
Welcome to Bioconductor
    Vignettes contain introductory material. To view, type
    'openVignette()' or start with 'help(Biobase)'. For details
    on reading vignettes, see the openVignette help page.
Loading required package: XML
Loading required package: annotate
Loading required package: RSQLite
Loading required package: DBI
** help
 >>> Building/Updating help pages for package 'Resourcerer'
     Formats: text html latex example 
  getRsourcerer                     text    html    latex   example
  resourcerer2BioC                  text    html    latex   example
** building package indices ...
* DONE (Resourcerer)