Back to the "Multiple platform build/check report"
| Package 55/214 | Hostname | OS | Arch | BUILD | CHECK | BUILD BIN | 
diffGeneAnalysis1.18.0Choudary JagarlamudiLast Changed Date: 2007-04-24 11:21:48 -0700 Last Changed Rev: 24214  | lamb1 | Linux (SUSE 10.1) | x86_64 | OK | OK | |
| wellington | Linux (SUSE 9.2) | i686 | OK | OK | ||
| churchill | Solaris 2.9 | sparc | OK | OK | ||
| lemming | Windows Server 2003 (32-bit) | x64 | OK | OK | [ OK ] | |
| liverpool | Windows Server 2003 R2 (32-bit) | x64 | OK | OK | OK | |
| derby | Mac OS X (10.4.9) | i686 | OK | OK | 
| Package: diffGeneAnalysis | 
| Version: 1.18.0 | 
| Command: D:\biocbld\bbs-2.0-bioc\R\bin\R.exe CMD INSTALL --build --library=diffGeneAnalysis.BUILDBINinstdir diffGeneAnalysis_1.18.0.tar.gz | 
| RetCode: 0 | 
| Time: 8.0 seconds | 
| Status: OK | 
| PackageFile: diffGeneAnalysis_1.18.0.zip | 
installing R.css in D:/biocbld/bbs-2.0-bioc/meat/diffGeneAnalysis.BUILDBINinstdir
Using auto-selected zip options 'diffGeneAnalysis-ZIPDATA=zip'
---------- Making package diffGeneAnalysis ------------
  adding build stamp to DESCRIPTION
  installing R files
  installing inst files
  installing data files
  installing man source files
  installing indices
  zipping data
  installing help
 >>> Building/Updating help pages for package 'diffGeneAnalysis'
     Formats: text html latex example chm 
  assocAnalysis                     text    html    latex   example chm
  biasAdjust                        text    html    latex   example chm
  curveFit                          text    html    latex   example chm
  dataTrim                          text    html    latex   example chm
  normalize                         text    html    latex   example chm
  rawdata                           text    html    latex   example chm
  refGroup                          text    html    latex   example chm
Microsoft HTML Help Compiler 4.74.8702
Compiling d:\biocbld\bbs-2.0-bioc\meat\R.INSTALL.7032\diffGeneAnalysis\chm\diffGeneAnalysis.chm
Compile time: 0 minutes, 0 seconds
8	Topics
7	Local links
0	Internet links
1	Graphic
Created d:\biocbld\bbs-2.0-bioc\meat\R.INSTALL.7032\diffGeneAnalysis\chm\diffGeneAnalysis.chm, 26,671 bytes
Compression decreased file by 2,782 bytes.
  adding MD5 sums
packaged installation of package 'diffGeneAnalysis' as diffGeneAnalysis_1.18.0.zip
* DONE (diffGeneAnalysis)