Back to the "Multiple platform build/check report"
| Package 88/214 | Hostname | OS | Arch | BUILD | CHECK | BUILD BIN |
goTools1.8.0Agnes PaquetLast Changed Date: 2007-04-24 11:21:48 -0700 Last Changed Rev: 24214 | lamb1 | Linux (SUSE 10.1) | x86_64 | [ OK ] | OK | |
| wellington | Linux (SUSE 9.2) | i686 | OK | OK | ||
| churchill | Solaris 2.9 | sparc | OK | OK | ||
| lemming | Windows Server 2003 (32-bit) | x64 | OK | OK | OK | |
| liverpool | Windows Server 2003 R2 (32-bit) | x64 | OK | OK | OK | |
| derby | Mac OS X (10.4.9) | i686 | OK | OK |
| Package: goTools |
| Version: 1.8.0 |
| Command: /home/biocbuild/bbs-2.0-bioc/R/bin/R CMD build goTools |
| RetCode: 0 |
| Time: 48.5 seconds |
| Status: OK |
| PackageFile: goTools_1.8.0.tar.gz |
* checking for file 'goTools/DESCRIPTION' ... OK
* preparing 'goTools':
* checking DESCRIPTION meta-information ... OK
* checking whether 'INDEX' is up-to-date ... OK
* installing the package to re-build vignettes
* Installing *source* package 'goTools' ...
** R
** data
** inst
** save image
Loading required package: Biobase
Loading required package: tools
Welcome to Bioconductor
Vignettes contain introductory material. To view, type
'openVignette()'. To cite Bioconductor, see
'citation("Biobase")' and for packages 'citation(pkgname)'.
Loading required package: annotate
Loading required package: GO
** help
>>> Building/Updating help pages for package 'goTools'
Formats: text html latex example
EndNodeList text html latex example
goTools-internal text html latex
ontoCompare text html latex example
probeID text html latex
** building package indices ...
* DONE (goTools)
* creating vignettes ... OK
* removing junk files
* checking for LF line-endings in source files
* checking for empty or unneeded directories
* building 'goTools_1.8.0.tar.gz'