Back to the "Multiple platform build/check report"
| Package 78/214 | Hostname | OS | Arch | BUILD | CHECK | BUILD BIN |
GeneticsDesign1.0.0Weiliang QiuLast Changed Date: 2007-04-24 11:21:48 -0700 Last Changed Rev: 24214 | lamb1 | Linux (SUSE 10.1) | x86_64 | [ OK ] | OK | |
| wellington | Linux (SUSE 9.2) | i686 | OK | OK | ||
| lemming | Windows Server 2003 (32-bit) | x64 | OK | OK | OK |
| Package: GeneticsDesign |
| Version: 1.0.0 |
| Command: /home/biocbuild/bbs-2.0-bioc/R/bin/R CMD build GeneticsDesign |
| RetCode: 0 |
| Time: 3.5 seconds |
| Status: OK |
| PackageFile: GeneticsDesign_1.0.0.tar.gz |
* checking for file 'GeneticsDesign/DESCRIPTION' ... OK
* preparing 'GeneticsDesign':
* checking DESCRIPTION meta-information ... OK
* installing the package to re-build vignettes
* Installing *source* package 'GeneticsDesign' ...
** R
** inst
** preparing package for lazy loading
Loading required package: combinat
Attaching package: 'combinat'
The following object(s) are masked from package:utils :
combn
Loading required package: gdata
Loading required package: mvtnorm
** help
>>> Building/Updating help pages for package 'GeneticsDesign'
Formats: text html latex example
GPC text html latex example
gregorius text html latex example
power.casectl text html latex example
** building package indices ...
* DONE (GeneticsDesign)
* creating vignettes ... OK
* removing junk files
* checking for LF line-endings in source files
* checking for empty or unneeded directories
* building 'GeneticsDesign_1.0.0.tar.gz'