Back to the "Multiple platform build/check report"
| Package 163/214 | Hostname | OS | Arch | BUILD | CHECK | BUILD BIN | 
| RbcBook11.4.0Vince CareyLast Changed Date: 2007-04-24 11:21:48 -0700 Last Changed Rev: 24214 | lamb1 | Linux (SUSE 10.1) | x86_64 | OK | OK | |
| wellington | Linux (SUSE 9.2) | i686 | OK | OK | ||
| lemming | Windows Server 2003 (32-bit) | x64 | OK | OK | [ OK ] | 
| Package: RbcBook1 | 
| Version: 1.4.0 | 
| Command: D:\biocbld\bbs-2.0-bioc\R\bin\R.exe CMD INSTALL --build --library=RbcBook1.buildbin-libdir RbcBook1_1.4.0.tar.gz | 
| RetCode: 0 | 
| Time: 12.4 seconds | 
| Status: OK | 
| PackageFile: RbcBook1_1.4.0.zip | 
installing R.css in D:/biocbld/bbs-2.0-bioc/meat/RbcBook1.buildbin-libdir
Using auto-selected zip options 'RbcBook1-ZIPDATA=zip'
---------- Making package RbcBook1 ------------
  adding build stamp to DESCRIPTION
  installing R files
  installing inst files
  installing data files
  installing man source files
  installing indices
  zipping data
  installing help
 >>> Building/Updating help pages for package 'RbcBook1'
     Formats: text html latex example chm 
  bcStangle                         text    html    latex   example chm
  bcSweave                          text    html    latex   example chm
  bcr                               text    html    latex   example chm
  checkVerbatimLines                text    html    latex   example chm
  imageSize                         text    html    latex   example chm
  perf                              text    html    latex   example chm
  requireAllBook1                   text    html    latex   example chm
  rpart2gNEL                        text    html    latex   example chm
Microsoft HTML Help Compiler 4.74.8702
Compiling d:\biocbld\bbs-2.0-bioc\meat\R.INSTALL.5792\RbcBook1\chm\RbcBook1.chm
Compile time: 0 minutes, 0 seconds
9	Topics
31	Local links
0	Internet links
1	Graphic
Created d:\biocbld\bbs-2.0-bioc\meat\R.INSTALL.5792\RbcBook1\chm\RbcBook1.chm, 23,977 bytes
Compression decreased file by 4,302 bytes.
  adding MD5 sums
packaged installation of package 'RbcBook1' as RbcBook1_1.4.0.zip
* DONE (RbcBook1)