Back to the "Multiple platform build/check report"
| Package 62/214 | Hostname | OS | Arch | BUILD | CHECK | BUILD BIN |
exonmap1.0.07Michal OkoniewskiLast Changed Date: 2007-08-22 06:18:04 -0700 Last Changed Rev: 26584 | lamb1 | Linux (SUSE 10.1) | x86_64 | [ OK ] | WARNINGS | |
| wellington | Linux (SUSE 9.2) | i686 | OK | ERROR | ||
| lemming | Windows Server 2003 (32-bit) | x64 | OK | WARNINGS | OK |
| Package: exonmap |
| Version: 1.0.07 |
| Command: /home/biocbuild/bbs-2.0-bioc/R/bin/R CMD build exonmap |
| RetCode: 0 |
| Time: 0.5 seconds |
| Status: OK |
| PackageFile: exonmap_1.0.07.tar.gz |
* checking for file 'exonmap/DESCRIPTION' ... OK * preparing 'exonmap': * checking DESCRIPTION meta-information ... OK * removing junk files * checking for LF line-endings in source files * checking for empty or unneeded directories * building 'exonmap_1.0.07.tar.gz'