Back to the "Multiple platform build/check report"
| Package 67/214 | Hostname | OS | Arch | BUILD | CHECK | BUILD BIN |
flowViz1.0.0Florian HahneLast Changed Date: 2007-04-24 11:21:48 -0700 Last Changed Rev: 24214 | lamb1 | Linux (SUSE 10.1) | x86_64 | OK | OK | |
| wellington | Linux (SUSE 9.2) | i686 | OK | ERROR | ||
| lemming | Windows Server 2003 (32-bit) | x64 | OK | OK | [ OK ] |
| Package: flowViz |
| Version: 1.0.0 |
| Command: D:\biocbld\bbs-2.0-bioc\R\bin\R.exe CMD INSTALL --build --library=flowViz.buildbin-libdir flowViz_1.0.0.tar.gz |
| RetCode: 0 |
| Time: 14.5 seconds |
| Status: OK |
| PackageFile: flowViz_1.0.0.zip |
installing R.css in D:/biocbld/bbs-2.0-bioc/meat/flowViz.buildbin-libdir
Using auto-selected zip options ''
---------- Making package flowViz ------------
adding build stamp to DESCRIPTION
installing NAMESPACE file and metadata
installing R files
installing man source files
installing indices
installing help
>>> Building/Updating help pages for package 'flowViz'
Formats: text html latex example chm
flowPlot text html latex example chm
flowViz-package text html latex example chm
latticeMethods-flowSet text html latex example chm
Microsoft HTML Help Compiler 4.74.8702
Compiling d:\biocbld\bbs-2.0-bioc\meat\R.INSTALL.4212\flowViz\chm\flowViz.chm
Compile time: 0 minutes, 0 seconds
4 Topics
21 Local links
0 Internet links
1 Graphic
Created d:\biocbld\bbs-2.0-bioc\meat\R.INSTALL.4212\flowViz\chm\flowViz.chm, 26,208 bytes
Compression decreased file by 3,264 bytes.
preparing package flowViz for lazy loading
Loading required package: flowCore
Loading required package: Biobase
Loading required package: tools
Welcome to Bioconductor
Vignettes contain introductory material. To view, type
'openVignette()'. To cite Bioconductor, see
'citation("Biobase")' and for packages 'citation(pkgname)'.
Loading required package: rrcov
KernSmooth 2.22 installed
Copyright M. P. Wand 1997
Loading required package: rgl
Loading required package: geneplotter
Loading required package: annotate
Loading required package: lattice
Loading required package: MASS
Creating a new generic function for "densityplot" in "flowViz"
Creating a new generic function for "xyplot" in "flowViz"
Creating a new generic function for "levelplot" in "flowViz"
Creating a new generic function for "qqmath" in "flowViz"
Creating a new generic function for "splom" in "flowViz"
Creating a new generic function for "parallel" in "flowViz"
adding MD5 sums
packaged installation of package 'flowViz' as flowViz_1.0.0.zip
* DONE (flowViz)