Back to the "Multiple platform build/check report"
| Package 104/214 | Hostname | OS | Arch | BUILD | CHECK | BUILD BIN |
lapmix1.2.0Yann RuffieuxLast Changed Date: 2007-04-24 11:21:48 -0700 Last Changed Rev: 24214 | lamb1 | Linux (SUSE 10.1) | x86_64 | OK | OK | |
| wellington | Linux (SUSE 9.2) | i686 | OK | OK | ||
| lemming | Windows Server 2003 (32-bit) | x64 | [ OK ] | OK | OK |
| Package: lapmix |
| Version: 1.2.0 |
| Command: D:\biocbld\bbs-2.0-bioc\R\bin\R.exe CMD build lapmix |
| RetCode: 0 |
| Time: 19.7 seconds |
| Status: OK |
| PackageFile: lapmix_1.2.0.tar.gz |
* checking for file 'lapmix/DESCRIPTION' ... OK
* preparing 'lapmix':
* checking DESCRIPTION meta-information ... OK
* checking whether 'INDEX' is up-to-date ... NO
* use '--force' to overwrite the existing 'INDEX'
* installing the package to re-build vignettes
installing R.css in D:/biocbld/bbs-2.0-bioc/tmpdir/Rinst427636236
---------- Making package lapmix ------------
adding build stamp to DESCRIPTION
installing R files
installing inst files
installing man source files
installing indices
installing help
>>> Building/Updating help pages for package 'lapmix'
Formats: text html latex example chm
lap.volcanoplot text html latex example chm
lapmix-internal text html latex chm
lapmix.Fit text html latex example chm
laptopTable text html latex example chm
Microsoft HTML Help Compiler 4.74.8702
Compiling d:\biocbld\bbs-2.0-bioc\meat\lapmix\chm\lapmix.chm
Compile time: 0 minutes, 0 seconds
5 Topics
7 Local links
0 Internet links
1 Graphic
Created d:\biocbld\bbs-2.0-bioc\meat\lapmix\chm\lapmix.chm, 21,929 bytes
Compression increased file by 4,235 bytes.
adding MD5 sums
* DONE (lapmix)
* creating vignettes ... OK
* removing junk files
* checking for LF line-endings in source files
* checking for empty or unneeded directories
* building 'lapmix_1.2.0.tar.gz'