Back to the "Multiple platform build/check report"
| Package 107/214 | Hostname | OS | Arch | BUILD | CHECK | BUILD BIN | 
limmaGUI1.12.0Keith SatterleyLast Changed Date: 2007-04-24 11:21:48 -0700 Last Changed Rev: 24214  | lamb1 | Linux (SUSE 10.1) | x86_64 | OK | OK | |
| wellington | Linux (SUSE 9.2) | i686 | OK | OK | ||
| lemming | Windows Server 2003 (32-bit) | x64 | OK | OK | [ OK ] | 
| Package: limmaGUI | 
| Version: 1.12.0 | 
| Command: D:\biocbld\bbs-2.0-bioc\R\bin\R.exe CMD INSTALL --build --library=limmaGUI.buildbin-libdir limmaGUI_1.12.0.tar.gz | 
| RetCode: 0 | 
| Time: 13.5 seconds | 
| Status: OK | 
| PackageFile: limmaGUI_1.12.0.zip | 
installing R.css in D:/biocbld/bbs-2.0-bioc/meat/limmaGUI.buildbin-libdir
Using auto-selected zip options ''
---------- Making package limmaGUI ------------
  adding build stamp to DESCRIPTION
  installing R files
  installing inst files
  installing man source files
  installing indices
  installing help
 >>> Building/Updating help pages for package 'limmaGUI'
     Formats: text html latex example chm 
  LGchangelog                       text    html    latex           chm
  limmaGUI                          text    html    latex           chm
Microsoft HTML Help Compiler 4.74.8702
Compiling d:\biocbld\bbs-2.0-bioc\meat\R.INSTALL.5360\limmaGUI\chm\limmaGUI.chm
Compile time: 0 minutes, 0 seconds
3	Topics
137	Local links
0	Internet links
1	Graphic
Created d:\biocbld\bbs-2.0-bioc\meat\R.INSTALL.5360\limmaGUI\chm\limmaGUI.chm, 26,497 bytes
Compression decreased file by 36,800 bytes.
  preparing package limmaGUI for lazy loading
Loading required package: limma
Loading required package: tcltk
Loading Tcl/Tk interface ... done
  adding MD5 sums
packaged installation of package 'limmaGUI' as limmaGUI_1.12.0.zip
* DONE (limmaGUI)