Back to the "Multiple platform build/check report"
| Package 33/48 | Hostname | OS | Arch | BUILD | CHECK | BUILD BIN |
MAQCsubset1.0.2VJ CareyLast Changed Date: 2007-04-16 16:52:19 -0700 Last Changed Rev: 273 | lamb1 | Linux (SUSE 10.1) | x86_64 | [ OK ] | WARNINGS | |
| lemming | Windows Server 2003 (32-bit) | x64 | OK | WARNINGS | OK |
| Package: MAQCsubset |
| Version: 1.0.2 |
| Command: /home/biocbuild/bbs-2.0-bioc/R/bin/R CMD build MAQCsubset |
| RetCode: 0 |
| Time: 21.5 seconds |
| Status: OK |
| PackageFile: MAQCsubset_1.0.2.tar.gz |
* checking for file 'MAQCsubset/DESCRIPTION' ... OK
* preparing 'MAQCsubset':
* checking DESCRIPTION meta-information ... OK
* installing the package to re-build vignettes
* Installing *source* package 'MAQCsubset' ...
** R
** data
** inst
** save image
Loading required package: Biobase
Loading required package: tools
Welcome to Bioconductor
Vignettes contain introductory material. To view, type
'openVignette()'. To cite Bioconductor, see
'citation("Biobase")' and for packages 'citation(pkgname)'.
[1] "proboStruct"
[1] "show"
Creating a new generic function for "plot" in "MAQCsubset"
[1] "plot"
Creating a new generic function for "lines" in "MAQCsubset"
[1] "lines"
** help
>>> Building/Updating help pages for package 'MAQCsubset'
Formats: text html latex example
MAQCsubset text html latex example
proboStruct-class text html latex example
** building package indices ...
* DONE (MAQCsubset)
* creating vignettes ... OK
* removing junk files
* checking for LF line-endings in source files
* checking for empty or unneeded directories
* building 'MAQCsubset_1.0.2.tar.gz'