Back to the "Multiple platform build/check report"
| Package 41/48 | Hostname | OS | Arch | BUILD | CHECK | BUILD BIN |
SpikeIn1.4.1Rafael A. IrizarryLast Changed Date: 2007-03-02 15:09:05 -0800 Last Changed Rev: 233 | lamb1 | Linux (SUSE 10.1) | x86_64 | OK | OK | |
| lemming | Windows Server 2003 (32-bit) | x64 | OK | [ OK ] | OK |
| Package: SpikeIn |
| Version: 1.4.1 |
| Command: D:\biocbld\bbs-2.0-bioc\R\bin\R.exe CMD check SpikeIn_1.4.1.tar.gz |
| RetCode: 0 |
| Time: 209.6 seconds |
| Status: OK |
| CheckDir: SpikeIn.Rcheck |
| Warnings: 0 |
* checking for working latex ... OK * using log directory 'D:/biocbld/bbs-2.0-data-experiment/meat/SpikeIn.Rcheck' * using R version 2.5.1 (2007-06-27) * checking for file 'SpikeIn/DESCRIPTION' ... OK * this is package 'SpikeIn' version '1.4.1' * checking package dependencies ... OK * checking if this is a source package ... OK * checking whether package 'SpikeIn' can be installed ... OK * checking package directory ... OK * checking for portable file names ... OK * checking DESCRIPTION meta-information ... OK * checking top-level files ... OK * checking index information ... OK * checking package subdirectories ... OK * checking R files for non-ASCII characters ... OK * checking R files for syntax errors ... OK * checking whether the package can be loaded ... OK * checking whether the package can be loaded with stated dependencies ... OK * checking for unstated dependencies in R code ... OK * checking S3 generic/method consistency ... OK * checking replacement functions ... OK * checking foreign function calls ... OK * checking R code for possible problems ... OK * checking Rd files ... OK * checking Rd cross-references ... OK * checking for missing documentation entries ... OK * checking for code/documentation mismatches ... OK * checking Rd \usage sections ... OK * checking data for non-ASCII characters ... OK * creating SpikeIn-Ex.R ... OK * checking examples ... OK * creating SpikeIn-manual.tex ... OK * checking SpikeIn-manual.tex ... OK
SpikeIn.Rcheck/00install.out:
installing R.css in D:/biocbld/bbs-2.0-data-experiment/meat/SpikeIn.Rcheck
---------- Making package SpikeIn ------------
adding build stamp to DESCRIPTION
installing R files
installing data files
installing man source files
installing indices
not zipping data
installing help
>>> Building/Updating help pages for package 'SpikeIn'
Formats: text html latex example chm
SpikeIn text html latex chm
Microsoft HTML Help Compiler 4.74.8702
Compiling d:\biocbld\bbs-2.0-data-experiment\meat\SpikeIn.Rcheck\00_pkg_src\SpikeIn\chm\SpikeIn.chm
Compile time: 0 minutes, 0 seconds
2 Topics
3 Local links
1 Internet link
1 Graphic
Created d:\biocbld\bbs-2.0-data-experiment\meat\SpikeIn.Rcheck\00_pkg_src\SpikeIn\chm\SpikeIn.chm, 16,010 bytes
Compression increased file by 8,830 bytes.
adding MD5 sums
* DONE (SpikeIn)