Back to the "Multiple platform build/check report"
| Package 1/48 | Hostname | OS | Arch | BUILD | CHECK | BUILD BIN |
affydata1.11.3LaurentLast Changed Date: 2007-08-07 18:27:33 -0700 Last Changed Rev: 410 | lamb1 | Linux (SUSE 10.1) | x86_64 | OK | OK | |
| lemming | Windows Server 2003 (32-bit) | x64 | OK | OK | [ OK ] |
| Package: affydata |
| Version: 1.11.3 |
| Command: D:\biocbld\bbs-2.0-bioc\R\bin\R.exe CMD INSTALL --build --library=affydata.buildbin-libdir affydata_1.11.3.tar.gz |
| RetCode: 0 |
| Time: 32.3 seconds |
| Status: OK |
| PackageFile: affydata_1.11.3.zip |
installing R.css in D:/biocbld/bbs-2.0-data-experiment/meat/affydata.buildbin-libdir
Using auto-selected zip options 'affydata-ZIPDATA=zip'
---------- Making package affydata ------------
adding build stamp to DESCRIPTION
installing R files
installing inst files
installing data files
installing man source files
installing indices
zipping data
installing help
>>> Building/Updating help pages for package 'affydata'
Formats: text html latex example chm
Dilution text html latex chm
Microsoft HTML Help Compiler 4.74.8702
Compiling d:\biocbld\bbs-2.0-data-experiment\meat\R.INSTALL.6796\affydata\chm\affydata.chm
Compile time: 0 minutes, 0 seconds
2 Topics
2 Local links
1 Internet link
1 Graphic
Created d:\biocbld\bbs-2.0-data-experiment\meat\R.INSTALL.6796\affydata\chm\affydata.chm, 16,293 bytes
Compression increased file by 9,137 bytes.
adding MD5 sums
packaged installation of package 'affydata' as affydata_1.11.3.zip
* DONE (affydata)