Back to the "Multiple platform build/check report"
| Package 6/48 | Hostname | OS | Arch | BUILD | CHECK | BUILD BIN |
bronchialIL131.0-1Vince CareyLast Changed Date: 2007-04-15 15:10:53 -0700 Last Changed Rev: 255 | lamb1 | Linux (SUSE 10.1) | x86_64 | OK | [ OK ] | |
| lemming | Windows Server 2003 (32-bit) | x64 | OK | OK | OK |
| Package: bronchialIL13 |
| Version: 1.0-1 |
| Command: /home/biocbuild/bbs-2.0-bioc/R/bin/R CMD check bronchialIL13_1.0-1.tar.gz |
| RetCode: 0 |
| Time: 21.8 seconds |
| Status: OK |
| CheckDir: bronchialIL13.Rcheck |
| Warnings: 0 |
* checking for working latex ... OK * using log directory '/home/biocbuild/bbs-2.0-data-experiment/meat/bronchialIL13.Rcheck' * using R version 2.5.1 (2007-06-27) * checking for file 'bronchialIL13/DESCRIPTION' ... OK * this is package 'bronchialIL13' version '1.0-1' * checking package dependencies ... OK * checking if this is a source package ... OK * checking whether package 'bronchialIL13' can be installed ... OK * checking package directory ... OK * checking for portable file names ... OK * checking for sufficient/correct file permissions ... OK * checking DESCRIPTION meta-information ... OK * checking top-level files ... OK * checking index information ... OK * checking package subdirectories ... OK * checking whether the package can be loaded ... OK * checking whether the package can be loaded with stated dependencies ... OK * checking Rd files ... OK * checking Rd cross-references ... OK * checking for missing documentation entries ... OK * checking for code/documentation mismatches ... OK * checking Rd \usage sections ... OK * checking data for non-ASCII characters ... OK * creating bronchialIL13-Ex.R ... OK * checking examples ... OK * creating bronchialIL13-manual.tex ... OK * checking bronchialIL13-manual.tex ... OK
bronchialIL13.Rcheck/00install.out:
* Installing *source* package 'bronchialIL13' ...
** data
** inst
** help
>>> Building/Updating help pages for package 'bronchialIL13'
Formats: text html latex example
il13tc text html latex example
** building package indices ...
* DONE (bronchialIL13)