Back to the "Multiple platform build/check report"
| Package 14/48 | Hostname | OS | Arch | BUILD | CHECK | BUILD BIN |
facsDorit1.4.0Florian HahneLast Changed Date: 2006-09-28 18:17:09 -0700 Last Changed Rev: 142 | lamb1 | Linux (SUSE 10.1) | x86_64 | OK | OK | |
| lemming | Windows Server 2003 (32-bit) | x64 | OK | [ OK ] | OK |
| Package: facsDorit |
| Version: 1.4.0 |
| Command: D:\biocbld\bbs-2.0-bioc\R\bin\R.exe CMD check facsDorit_1.4.0.tar.gz |
| RetCode: 0 |
| Time: 63.9 seconds |
| Status: OK |
| CheckDir: facsDorit.Rcheck |
| Warnings: 0 |
* checking for working latex ... OK * using log directory 'D:/biocbld/bbs-2.0-data-experiment/meat/facsDorit.Rcheck' * using R version 2.5.1 (2007-06-27) * checking for file 'facsDorit/DESCRIPTION' ... OK * this is package 'facsDorit' version '1.4.0' * checking package dependencies ... OK * checking if this is a source package ... OK * checking whether package 'facsDorit' can be installed ... OK * checking package directory ... OK * checking for portable file names ... OK * checking DESCRIPTION meta-information ... OK * checking top-level files ... OK * checking index information ... OK * checking package subdirectories ... OK * checking R files for non-ASCII characters ... OK * checking R files for syntax errors ... OK * checking whether the package can be loaded ... OK * checking whether the package can be loaded with stated dependencies ... OK * checking for unstated dependencies in R code ... OK * checking S3 generic/method consistency ... OK * checking replacement functions ... OK * checking foreign function calls ... OK * checking R code for possible problems ... OK * checking Rd files ... OK * checking Rd cross-references ... OK * checking for missing documentation entries ... OK * checking for code/documentation mismatches ... OK * checking Rd \usage sections ... OK * creating facsDorit-Ex.R ... OK * checking examples ... OK * creating facsDorit-manual.tex ... OK * checking facsDorit-manual.tex ... OK
facsDorit.Rcheck/00install.out:
installing R.css in D:/biocbld/bbs-2.0-data-experiment/meat/facsDorit.Rcheck
---------- Making package facsDorit ------------
adding build stamp to DESCRIPTION
installing R files
installing inst files
installing man source files
installing indices
installing help
>>> Building/Updating help pages for package 'facsDorit'
Formats: text html latex example chm
facsDorit text html latex example chm
Microsoft HTML Help Compiler 4.74.8702
Compiling d:\biocbld\bbs-2.0-data-experiment\meat\facsDorit.Rcheck\00_pkg_src\facsDorit\chm\facsDorit.chm
Compile time: 0 minutes, 0 seconds
2 Topics
2 Local links
0 Internet links
1 Graphic
Created d:\biocbld\bbs-2.0-data-experiment\meat\facsDorit.Rcheck\00_pkg_src\facsDorit\chm\facsDorit.chm, 16,394 bytes
Compression increased file by 8,982 bytes.
adding MD5 sums
* DONE (facsDorit)