Back to the "Multiple platform build/check report"
| Package 18/48 | Hostname | OS | Arch | BUILD | CHECK | BUILD BIN |
golubEsets1.4.3Vince CareyLast Changed Date: 2007-04-15 17:50:05 -0700 Last Changed Rev: 261 | lamb1 | Linux (SUSE 10.1) | x86_64 | [ OK ] | OK | |
| lemming | Windows Server 2003 (32-bit) | x64 | OK | OK | OK |
| Package: golubEsets |
| Version: 1.4.3 |
| Command: /home/biocbuild/bbs-2.0-bioc/R/bin/R CMD build golubEsets |
| RetCode: 0 |
| Time: 4.5 seconds |
| Status: OK |
| PackageFile: golubEsets_1.4.3.tar.gz |
* checking for file 'golubEsets/DESCRIPTION' ... OK * preparing 'golubEsets': * checking DESCRIPTION meta-information ... OK * removing junk files * checking for LF line-endings in source files * checking for empty or unneeded directories * building 'golubEsets_1.4.3.tar.gz'