Back to the "Multiple platform build/check report"
| Package 28/48 | Hostname | OS | Arch | BUILD | CHECK | BUILD BIN |
kidpack1.4.3Wolfgang HuberLast Changed Date: 2007-04-17 09:27:44 -0700 Last Changed Rev: 274 | lamb1 | Linux (SUSE 10.1) | x86_64 | OK | OK | |
| lemming | Windows Server 2003 (32-bit) | x64 | OK | [ OK ] | OK |
| Package: kidpack |
| Version: 1.4.3 |
| Command: D:\biocbld\bbs-2.0-bioc\R\bin\R.exe CMD check kidpack_1.4.3.tar.gz |
| RetCode: 0 |
| Time: 84.2 seconds |
| Status: OK |
| CheckDir: kidpack.Rcheck |
| Warnings: 0 |
* checking for working latex ... OK * using log directory 'D:/biocbld/bbs-2.0-data-experiment/meat/kidpack.Rcheck' * using R version 2.5.1 (2007-06-27) * checking for file 'kidpack/DESCRIPTION' ... OK * this is package 'kidpack' version '1.4.3' * checking package dependencies ... OK * checking if this is a source package ... OK * checking whether package 'kidpack' can be installed ... OK * checking package directory ... OK * checking for portable file names ... OK * checking DESCRIPTION meta-information ... OK * checking top-level files ... OK * checking index information ... OK * checking package subdirectories ... OK * checking R files for non-ASCII characters ... OK * checking R files for syntax errors ... OK * checking whether the package can be loaded ... OK * checking whether the package can be loaded with stated dependencies ... OK * checking for unstated dependencies in R code ... OK * checking S3 generic/method consistency ... OK * checking replacement functions ... OK * checking foreign function calls ... OK * checking R code for possible problems ... OK * checking Rd files ... OK * checking Rd cross-references ... OK * checking for missing documentation entries ... OK * checking for code/documentation mismatches ... OK * checking Rd \usage sections ... OK * checking data for non-ASCII characters ... OK * creating kidpack-Ex.R ... OK * checking examples ... OK * checking package vignettes in 'inst/doc' ... OK * creating kidpack-manual.tex ... OK * checking kidpack-manual.tex ... OK
kidpack.Rcheck/00install.out:
installing R.css in D:/biocbld/bbs-2.0-data-experiment/meat/kidpack.Rcheck
---------- Making package kidpack ------------
adding build stamp to DESCRIPTION
installing R files
installing inst files
installing data files
installing man source files
installing indices
Loading required package: methods
not zipping data
installing help
>>> Building/Updating help pages for package 'kidpack'
Formats: text html latex example chm
eset text html latex example chm
qua text html latex example chm
Microsoft HTML Help Compiler 4.74.8702
Compiling d:\biocbld\bbs-2.0-data-experiment\meat\kidpack.Rcheck\00_pkg_src\kidpack\chm\kidpack.chm
Compile time: 0 minutes, 0 seconds
3 Topics
12 Local links
0 Internet links
1 Graphic
Created d:\biocbld\bbs-2.0-data-experiment\meat\kidpack.Rcheck\00_pkg_src\kidpack\chm\kidpack.chm, 18,650 bytes
Compression increased file by 6,263 bytes.
adding MD5 sums
* DONE (kidpack)