Back to the "Multiple platform build/check report"
| Package 39/48 | Hostname | OS | Arch | BUILD | CHECK | BUILD BIN |
rfcdmin1.6.3N. Le MeurLast Changed Date: 2007-05-07 11:57:58 -0700 Last Changed Rev: 292 | lamb1 | Linux (SUSE 10.1) | x86_64 | OK | WARNINGS | |
| lemming | Windows Server 2003 (32-bit) | x64 | [ OK ] | WARNINGS | OK |
| Package: rfcdmin |
| Version: 1.6.3 |
| Command: D:\biocbld\bbs-2.0-bioc\R\bin\R.exe CMD build rfcdmin |
| RetCode: 0 |
| Time: 14.6 seconds |
| Status: OK |
| PackageFile: rfcdmin_1.6.3.tar.gz |
* checking for file 'rfcdmin/DESCRIPTION' ... OK * preparing 'rfcdmin': * checking DESCRIPTION meta-information ... OK * removing junk files * checking for LF line-endings in source files * checking for empty or unneeded directories * building 'rfcdmin_1.6.3.tar.gz'