Back to the "Multiple platform build/check report"
| Package 47/48 | Hostname | OS | Arch | BUILD | CHECK | BUILD BIN |
yeastCC1.2.6Sandrine DudoitLast Changed Date: 2007-07-25 14:06:01 -0700 Last Changed Rev: 397 | lamb1 | Linux (SUSE 10.1) | x86_64 | OK | OK | |
| lemming | Windows Server 2003 (32-bit) | x64 | OK | OK | [ OK ] |
| Package: yeastCC |
| Version: 1.2.6 |
| Command: D:\biocbld\bbs-2.0-bioc\R\bin\R.exe CMD INSTALL --build --library=yeastCC.buildbin-libdir yeastCC_1.2.6.tar.gz |
| RetCode: 0 |
| Time: 21.2 seconds |
| Status: OK |
| PackageFile: yeastCC_1.2.6.zip |
installing R.css in D:/biocbld/bbs-2.0-data-experiment/meat/yeastCC.buildbin-libdir
Using auto-selected zip options 'yeastCC-ZIPDATA=zip'
---------- Making package yeastCC ------------
adding build stamp to DESCRIPTION
installing R files
installing inst files
installing data files
preparing package yeastCC for lazy data loading
installing man source files
installing indices
installing help
>>> Building/Updating help pages for package 'yeastCC'
Formats: text html latex example chm
orf800 text html latex example chm
spYCCmeta text html latex example chm
yeastCC text html latex example chm
Microsoft HTML Help Compiler 4.74.8702
Compiling d:\biocbld\bbs-2.0-data-experiment\meat\R.INSTALL.4496\yeastCC\chm\yeastCC.chm
Compile time: 0 minutes, 0 seconds
4 Topics
9 Local links
5 Internet links
1 Graphic
Created d:\biocbld\bbs-2.0-data-experiment\meat\R.INSTALL.4496\yeastCC\chm\yeastCC.chm, 26,426 bytes
Compression decreased file by 2,091 bytes.
adding MD5 sums
packaged installation of package 'yeastCC' as yeastCC_1.2.6.zip
* DONE (yeastCC)