Back to the "Multiple platform build/check report"
| Package 48/48 | Hostname | OS | Arch | BUILD | CHECK | BUILD BIN |
yeastExpData0.8.4R. GentlemanLast Changed Date: 2007-04-15 20:36:55 -0700 Last Changed Rev: 266 | lamb1 | Linux (SUSE 10.1) | x86_64 | [ OK ] | WARNINGS | |
| lemming | Windows Server 2003 (32-bit) | x64 | OK | WARNINGS | OK |
| Package: yeastExpData |
| Version: 0.8.4 |
| Command: /home/biocbuild/bbs-2.0-bioc/R/bin/R CMD build yeastExpData |
| RetCode: 0 |
| Time: 17.4 seconds |
| Status: OK |
| PackageFile: yeastExpData_0.8.4.tar.gz |
* checking for file 'yeastExpData/DESCRIPTION' ... OK
* preparing 'yeastExpData':
* checking DESCRIPTION meta-information ... OK
* installing the package to re-build vignettes
* Installing *source* package 'yeastExpData' ...
** data
** inst
** help
>>> Building/Updating help pages for package 'yeastExpData'
Formats: text html latex example
ccyclered text html latex example
fcabundance text html latex example
gfp text html latex example
nPdist text html latex example
proteinProperties text html latex example
** building package indices ...
* DONE (yeastExpData)
* creating vignettes ... OK
* removing junk files
* checking for LF line-endings in source files
* checking for empty or unneeded directories
* building 'yeastExpData_0.8.4.tar.gz'