Back to the "Multiple platform build/check report"
| IMPORTANT NOTE: R was configured with --enable-strict-barrier on lamb1 |
| Package 65/247 | Hostname | OS | Arch | BUILD | CHECK | BUILD BIN |
EBarrays1.9.2Deepayan SarkarLast Changed Date: 2007-05-23 10:51:11 -0700 Last Changed Rev: 24935 | lamb1 | Linux (SUSE 10.1) | x86_64 | OK | OK | |
| wellington | Linux (SUSE 9.2) | i686 | OK | OK | ||
| liverpool | Windows Server 2003 R2 (32-bit) | x64 | OK | OK | [ OK ] | |
| pitt | Mac OS X (10.4.10) | i386 | OK | OK | OK |
| Package: EBarrays |
| Version: 1.9.2 |
| Command: E:\biocbld\bbs-2.1-bioc\R\bin\R.exe CMD INSTALL --build --library=EBarrays.buildbin-libdir EBarrays_1.9.2.tar.gz |
| RetCode: 0 |
| Time: 21.0 seconds |
| Status: OK |
| PackageFile: EBarrays_1.9.2.zip |
installing R.css in E:/biocbld/bbs-2.1-bioc/meat/EBarrays.buildbin-libdir
Using auto-selected zip options 'EBarrays-ZIPDATA=zip'
---------- Making package EBarrays ------------
adding build stamp to DESCRIPTION
making DLL ...
making ebarrays.d from ebarrays.c
gcc -IE:/biocbld/bbs-2.1-bioc/R/include -Wall -O3 -std=gnu99 -c ebarrays.c -o ebarrays.o
windres -I E:/biocbld/bbs-2.1-bioc/R/include -i EBarrays_res.rc -o EBarrays_res.o
gcc -shared -s -o EBarrays.dll EBarrays.def ebarrays.o EBarrays_res.o -LE:/biocbld/bbs-2.1-bioc/R/bin -lR
... DLL made
installing DLL
installing R files
installing demos
installing inst files
installing data files
preparing package EBarrays for lazy loading
Loading required package: Biobase
Loading required package: tools
Welcome to Bioconductor
Vignettes contain introductory material. To view, type
'openVignette()'. To cite Bioconductor, see
'citation("Biobase")' and for packages 'citation(pkgname)'.
Loading required package: lattice
installing man source files
installing indices
zipping data
installing help
>>> Building/Updating help pages for package 'EBarrays'
Formats: text html latex example chm
ebarraysFamily-class text html latex example chm
ebplots text html latex example chm
emfit text html latex example chm
gould text html latex example chm
postprob text html latex chm
utilities text html latex example chm
Microsoft HTML Help Compiler 4.74.8702
Compiling e:\biocbld\bbs-2.1-bioc\meat\R.INSTALL.5244\EBarrays\chm\EBarrays.chm
Compile time: 0 minutes, 0 seconds
7 Topics
51 Local links
1 Internet link
1 Graphic
Created e:\biocbld\bbs-2.1-bioc\meat\R.INSTALL.5244\EBarrays\chm\EBarrays.chm, 29,097 bytes
Compression decreased file by 9,647 bytes.
adding MD5 sums
packaged installation of package 'EBarrays' as EBarrays_1.9.2.zip
* DONE (EBarrays)