Back to the "Multiple platform build/check report"
| IMPORTANT NOTE: R was configured with --enable-strict-barrier on lamb1 | 
| Package 150/247 | Hostname | OS | Arch | BUILD | CHECK | BUILD BIN | 
| MVCClass1.11.0Elizabeth WhalenLast Changed Date: 2007-04-24 11:31:42 -0700 Last Changed Rev: 24217 | lamb1 | Linux (SUSE 10.1) | x86_64 | [ OK ] | OK | |
| wellington | Linux (SUSE 9.2) | i686 | OK | OK | ||
| liverpool | Windows Server 2003 R2 (32-bit) | x64 | OK | OK | OK | |
| pitt | Mac OS X (10.4.10) | i386 | OK | OK | OK | 
| Package: MVCClass | 
| Version: 1.11.0 | 
| Command: /home/biocbuild/bbs-2.1-bioc/R/bin/R CMD build MVCClass | 
| RetCode: 0 | 
| Time: 6.5 seconds | 
| Status: OK | 
| PackageFile: MVCClass_1.11.0.tar.gz | 
* checking for file 'MVCClass/DESCRIPTION' ... OK
* preparing 'MVCClass':
* checking DESCRIPTION meta-information ... OK
* installing the package to re-build vignettes
* Installing *source* package 'MVCClass' ...
** R
** inst
** help
 >>> Building/Updating help pages for package 'MVCClass'
     Formats: text html latex example 
  MVC-class                         text    html    latex   example
  dfModel-class                     text    html    latex   example
  gAddChildMessage-class            text    html    latex   example
  gAddDataMessage-class             text    html    latex   example
  gAddMessage-class                 text    html    latex   example
  gAddViewMessage-class             text    html    latex   example
  gAskAncestorMessage-class         text    html    latex   example
  gEventFun-class                   text    html    latex   example
  gMessage-class                    text    html    latex   example
  gModel-class                      text    html    latex   example
  gModifyMessage-class              text    html    latex   example
  gSendChildMessage-class           text    html    latex   example
  gSendParentMessage-class          text    html    latex   example
  gUpdateDataMessage-class          text    html    latex   example
  gUpdateMessage-class              text    html    latex   example
  gUpdateViewMessage-class          text    html    latex   example
  genView-class                     text    html    latex   example
  linkedModelMVC-class              text    html    latex   example
  plotView-class                    text    html    latex   example
  qqPlotView-class                  text    html    latex   example
  sPlotView-class                   text    html    latex   example
  singleModelMVC-class              text    html    latex   example
  spreadView-class                  text    html    latex   example
** building package indices ...
* DONE (MVCClass)
* creating vignettes ... OK
* removing junk files
* checking for LF line-endings in source files
* checking for empty or unneeded directories
* building 'MVCClass_1.11.0.tar.gz'