Back to the "Multiple platform build/check report"
| IMPORTANT NOTE: R was configured with --enable-strict-barrier on lamb1 |
| Package 143/247 | Hostname | OS | Arch | BUILD | CHECK | BUILD BIN |
MergeMaid2.9.0Xiaogang ZhongLast Changed Date: 2007-04-24 11:31:42 -0700 Last Changed Rev: 24217 | lamb1 | Linux (SUSE 10.1) | x86_64 | OK | OK | |
| wellington | Linux (SUSE 9.2) | i686 | OK | OK | ||
| liverpool | Windows Server 2003 R2 (32-bit) | x64 | OK | OK | OK | |
| pitt | Mac OS X (10.4.10) | i386 | OK | OK | [ OK ] |
| Package: MergeMaid |
| Version: 2.9.0 |
| Command: /Users/biocbuild/BBS/utils/build-universal.sh MergeMaid_2.9.0.tar.gz /Library/Frameworks/R.framework/Resources/bin/R MergeMaid.buildbin-libdir |
| RetCode: 0 |
| Time: 5.5 seconds |
| Status: OK |
| PackageFile: MergeMaid_2.9.0.tgz |
INSTALLATION WITH 'R CMD INSTALL MergeMaid_2.9.0.tar.gz'
* Installing to library 'MergeMaid.buildbin-libdir'
* Installing *source* package 'MergeMaid' ...
** R
** data
** inst
** preparing package for lazy loading
Loading required package: survival
Loading required package: splines
Loading required package: Biobase
Loading required package: tools
Welcome to Bioconductor
Vignettes contain introductory material. To view, type
'openVignette()'. To cite Bioconductor, see
'citation("Biobase")' and for packages 'citation(pkgname)'.
Loading required package: MASS
Creating a new generic function for "plot" in "MergeMaid"
Creating a new generic function for "hist" in "MergeMaid"
Creating a new generic function for "summary" in "MergeMaid"
** help
>>> Building/Updating help pages for package 'MergeMaid'
Formats: text html latex example
class.mergeCoeff text html latex example
class.mergeCor text html latex example
class.mergeExpressionSet text html latex example
intCor text html latex example
intcorDens text html latex example
intersection text html latex example
mergeData text html latex
mergeExprs text html latex example
modelOutcome text html latex example
** building package indices ...
* DONE (MergeMaid)