Back to the "Multiple platform build/check report"
| IMPORTANT NOTE: R was configured with --enable-strict-barrier on lamb1 |
| Package 193/247 | Hostname | OS | Arch | BUILD | CHECK | BUILD BIN |
RefPlus1.5.0Kai-Ming ChangLast Changed Date: 2007-04-24 11:31:42 -0700 Last Changed Rev: 24217 | lamb1 | Linux (SUSE 10.1) | x86_64 | OK | OK | |
| wellington | Linux (SUSE 9.2) | i686 | OK | OK | ||
| liverpool | Windows Server 2003 R2 (32-bit) | x64 | OK | OK | OK | |
| pitt | Mac OS X (10.4.10) | i386 | OK | OK | [ OK ] |
| Package: RefPlus |
| Version: 1.5.0 |
| Command: /Users/biocbuild/BBS/utils/build-universal.sh RefPlus_1.5.0.tar.gz /Library/Frameworks/R.framework/Resources/bin/R RefPlus.buildbin-libdir |
| RetCode: 0 |
| Time: 2.8 seconds |
| Status: OK |
| PackageFile: RefPlus_1.5.0.tgz |
INSTALLATION WITH 'R CMD INSTALL RefPlus_1.5.0.tar.gz'
* Installing to library 'RefPlus.buildbin-libdir'
* Installing *source* package 'RefPlus' ...
** R
** inst
** help
>>> Building/Updating help pages for package 'RefPlus'
Formats: text html latex example
RefPlus-package text html latex example
colMedians text html latex example
normalize.quantiles2 text html latex example
rma.para text html latex example
rmaplus text html latex example
rmaref.predict text html latex example
** building package indices ...
* DONE (RefPlus)