Back to the "Multiple platform build/check report"
| IMPORTANT NOTE: R was configured with --enable-strict-barrier on lamb1 | 
| Package 24/247 | Hostname | OS | Arch | BUILD | CHECK | BUILD BIN | 
arrayMagic1.15.0Andreas BunessLast Changed Date: 2007-07-14 03:35:03 -0700 Last Changed Rev: 25817  | lamb1 | Linux (SUSE 10.1) | x86_64 | [ OK ] | OK | |
| wellington | Linux (SUSE 9.2) | i686 | OK | OK | ||
| liverpool | Windows Server 2003 R2 (32-bit) | x64 | OK | OK | OK | |
| pitt | Mac OS X (10.4.10) | i386 | OK | OK | OK | 
| Package: arrayMagic | 
| Version: 1.15.0 | 
| Command: /home/biocbuild/bbs-2.1-bioc/R/bin/R CMD build arrayMagic | 
| RetCode: 0 | 
| Time: 58.5 seconds | 
| Status: OK | 
| PackageFile: arrayMagic_1.15.0.tar.gz | 
* checking for file 'arrayMagic/DESCRIPTION' ... OK
* preparing 'arrayMagic':
* checking DESCRIPTION meta-information ... OK
* installing the package to re-build vignettes
* Installing *source* package 'arrayMagic' ...
** R
** inst
** preparing package for lazy loading
Loading required package: Biobase
Loading required package: tools
Welcome to Bioconductor
  Vignettes contain introductory material. To view, type
  'openVignette()'. To cite Bioconductor, see
  'citation("Biobase")' and for packages 'citation(pkgname)'.
Loading required package: vsn
Loading required package: affy
Loading required package: affyio
Loading required package: preprocessCore
Loading required package: limma
Loading required package: genefilter
Loading required package: survival
Loading required package: splines
** help
Note: unmatched right brace in 'readpDataSlides' on or after line 63
 >>> Building/Updating help pages for package 'arrayMagic'
     Formats: text html latex example 
  arrayData-class                   text    html    latex   example
  cbind.arrayData                   text    html    latex   example
  cbind.exprSetRG                   text    html    latex   example
  colCors                           text    html    latex   example
  controlledApply                   text    html    latex   example
  controlledSubsetting              text    html    latex   example
  detectReplicas                    text    html    latex   example
  exprSetRG-class                   text    html    latex   example
  fdc                               text    html    latex   example
  interweave                        text    html    latex   example
  normalise                         text    html    latex   example
  plot.imageMatrix                  text    html    latex   example
  plotDistributions                 text    html    latex   example
  processArrayData                  text    html    latex   example
  processArrayDataObject            text    html    latex   example
  qualityDiagnostics                text    html    latex   example
  qualityParameters                 text    html    latex   example
  readIntensities                   text    html    latex   example
  readpDataSlides                   text    html    latex   example
  removeSpots                       text    html    latex   example
  simpleApply                       text    html    latex   example
  slideMerge                        text    html    latex   example
  spatialLayout                     text    html    latex   example
  spotMerge                         text    html    latex   example
  visualiseHybridisations           text    html    latex   example
  visualiseQualityParameters        text    html    latex   example
  write.htmltable                   text    html    latex   example
  writeToFile                       text    html    latex   example
** building package indices ...
* DONE (arrayMagic)
* creating vignettes ... OK
* removing junk files
* checking for LF line-endings in source files
* checking for empty or unneeded directories
* building 'arrayMagic_1.15.0.tar.gz'