Back to the "Multiple platform build/check report"
| IMPORTANT NOTE: R was configured with --enable-strict-barrier on lamb1 |
| Package 27/247 | Hostname | OS | Arch | BUILD | CHECK | BUILD BIN |
arrayQualityMetrics1.0.17Audrey KauffmannLast Changed Date: 2007-08-19 06:20:07 -0700 Last Changed Rev: 26504 | lamb1 | Linux (SUSE 10.1) | x86_64 | OK | WARNINGS | |
| wellington | Linux (SUSE 9.2) | i686 | OK | WARNINGS | ||
| liverpool | Windows Server 2003 R2 (32-bit) | x64 | [ OK ] | WARNINGS | OK | |
| pitt | Mac OS X (10.4.10) | i386 | OK | WARNINGS | OK |
| Package: arrayQualityMetrics |
| Version: 1.0.17 |
| Command: E:\biocbld\bbs-2.1-bioc\R\bin\R.exe CMD build arrayQualityMetrics |
| RetCode: 0 |
| Time: 83.2 seconds |
| Status: OK |
| PackageFile: arrayQualityMetrics_1.0.17.tar.gz |
* checking for file 'arrayQualityMetrics/DESCRIPTION' ... OK
* preparing 'arrayQualityMetrics':
* checking DESCRIPTION meta-information ... OK
* installing the package to re-build vignettes
installing R.css in E:/biocbld/bbs-2.1-bioc/tmpdir/Rinst595209332
---------- Making package arrayQualityMetrics ------------
adding build stamp to DESCRIPTION
installing NAMESPACE file and metadata
installing R files
installing inst files
installing man source files
installing indices
installing help
>>> Building/Updating help pages for package 'arrayQualityMetrics'
Formats: text html latex example chm
arrayQualityMetrics text html latex example chm
Microsoft HTML Help Compiler 4.74.8702
Compiling e:\biocbld\bbs-2.1-bioc\meat\arrayQualityMetrics\chm\arrayQualityMetrics.chm
Compile time: 0 minutes, 0 seconds
2 Topics
2 Local links
0 Internet links
1 Graphic
Created e:\biocbld\bbs-2.1-bioc\meat\arrayQualityMetrics\chm\arrayQualityMetrics.chm, 16,952 bytes
Compression increased file by 8,440 bytes.
preparing package arrayQualityMetrics for lazy loading
Loading required package: Biobase
Loading required package: tools
Welcome to Bioconductor
Vignettes contain introductory material. To view, type
'openVignette()'. To cite Bioconductor, see
'citation("Biobase")' and for packages 'citation(pkgname)'.
Loading required package: geneplotter
Loading required package: annotate
Loading required package: AnnotationDbi
Loading required package: DBI
Loading required package: RSQLite
Loading required package: lattice
KernSmooth 2.22 installed
Copyright M. P. Wand 1997
Loading required package: genefilter
Loading required package: survival
Loading required package: splines
Loading required package: vsn
Loading required package: affy
Loading required package: affyio
Loading required package: preprocessCore
Loading required package: RColorBrewer
Loading required package: affyPLM
Loading required package: gcrma
Loading required package: matchprobes
Loading required package: simpleaffy
Loading required package: CCl4
Loading required package: limma
adding MD5 sums
* DONE (arrayQualityMetrics)
* creating vignettes ... OK
* removing junk files
* checking for LF line-endings in source files
* checking for empty or unneeded directories
* building 'arrayQualityMetrics_1.0.17.tar.gz'