Back to the "Multiple platform build/check report"
IMPORTANT NOTE: R was configured with --enable-strict-barrier on lamb1 |
Package 62/247 | Hostname | OS | Arch | BUILD | CHECK | BUILD BIN |
diffGeneAnalysis1.19.0Choudary JagarlamudiLast Changed Date: 2007-04-24 11:31:42 -0700 Last Changed Rev: 24217 | lamb1 | Linux (SUSE 10.1) | x86_64 | OK | OK | |
wellington | Linux (SUSE 9.2) | i686 | OK | OK | ||
liverpool | Windows Server 2003 R2 (32-bit) | x64 | OK | OK | OK | |
pitt | Mac OS X (10.4.10) | i386 | OK | OK | [ OK ] |
Package: diffGeneAnalysis |
Version: 1.19.0 |
Command: /Users/biocbuild/BBS/utils/build-universal.sh diffGeneAnalysis_1.19.0.tar.gz /Library/Frameworks/R.framework/Resources/bin/R diffGeneAnalysis.buildbin-libdir |
RetCode: 0 |
Time: 3.2 seconds |
Status: OK |
PackageFile: diffGeneAnalysis_1.19.0.tgz |
INSTALLATION WITH 'R CMD INSTALL diffGeneAnalysis_1.19.0.tar.gz' * Installing to library 'diffGeneAnalysis.buildbin-libdir' * Installing *source* package 'diffGeneAnalysis' ... ** R ** data ** inst ** help >>> Building/Updating help pages for package 'diffGeneAnalysis' Formats: text html latex example assocAnalysis text html latex example biasAdjust text html latex example curveFit text html latex example dataTrim text html latex example normalize text html latex example rawdata text html latex example refGroup text html latex example ** building package indices ... * DONE (diffGeneAnalysis)