Back to the "Multiple platform build/check report"
| IMPORTANT NOTE: R was configured with --enable-strict-barrier on lamb1 |
| Package 106/247 | Hostname | OS | Arch | BUILD | CHECK | BUILD BIN |
gtkWidgets0.11.0Jianhua ZhangLast Changed Date: 2007-08-01 13:23:31 -0700 Last Changed Rev: 26107 | lamb1 | Linux (SUSE 10.1) | x86_64 | OK | WARNINGS | |
| wellington | Linux (SUSE 9.2) | i686 | OK | WARNINGS | ||
| liverpool | Windows Server 2003 R2 (32-bit) | x64 | OK | ERROR | OK | |
| pitt | Mac OS X (10.4.10) | i386 | OK | WARNINGS | [ OK ] |
| Package: gtkWidgets |
| Version: 0.11.0 |
| Command: /Users/biocbuild/BBS/utils/build-universal.sh gtkWidgets_0.11.0.tar.gz /Library/Frameworks/R.framework/Resources/bin/R gtkWidgets.buildbin-libdir |
| RetCode: 0 |
| Time: 7.4 seconds |
| Status: OK |
| PackageFile: gtkWidgets_0.11.0.tgz |
INSTALLATION WITH 'R CMD INSTALL gtkWidgets_0.11.0.tar.gz'
* Installing to library 'gtkWidgets.buildbin-libdir'
* Installing *source* package 'gtkWidgets' ...
** R
** inst
** preparing package for lazy loading
Loading required package: DynDoc
** help
>>> Building/Updating help pages for package 'gtkWidgets'
Formats: text html latex example
DPExplorer text html latex example
bioCMenu-class text html latex example
edgeTrimmer text html latex example
getCListWithVHScroll text html latex example
menuItem-class text html latex example
objectBrowser text html latex example
subExprSet text html latex example
vExplorer text html latex example
** building package indices ...
* DONE (gtkWidgets)