Back to the "Multiple platform build/check report"
| IMPORTANT NOTE: R was configured with --enable-strict-barrier on lamb1 |
| Package 134/247 | Hostname | OS | Arch | BUILD | CHECK | BUILD BIN |
makePlatformDesign1.1.3Benilton CarvalhoLast Changed Date: 2007-08-06 23:20:53 -0700 Last Changed Rev: 26204 | lamb1 | Linux (SUSE 10.1) | x86_64 | OK | OK | |
| wellington | Linux (SUSE 9.2) | i686 | OK | OK | ||
| liverpool | Windows Server 2003 R2 (32-bit) | x64 | OK | OK | OK | |
| pitt | Mac OS X (10.4.10) | i386 | OK | OK | [ OK ] |
| Package: makePlatformDesign |
| Version: 1.1.3 |
| Command: /Users/biocbuild/BBS/utils/build-universal.sh makePlatformDesign_1.1.3.tar.gz /Library/Frameworks/R.framework/Resources/bin/R makePlatformDesign.buildbin-libdir |
| RetCode: 0 |
| Time: 8.8 seconds |
| Status: OK |
| PackageFile: makePlatformDesign_1.1.3.tgz |
INSTALLATION WITH 'R CMD INSTALL makePlatformDesign_1.1.3.tar.gz'
* Installing to library 'makePlatformDesign.buildbin-libdir'
* Installing *source* package 'makePlatformDesign' ...
** libs
** arch - i386
gcc-4.0 -arch i386 -isysroot /Developer/SDKs/MacOSX10.4u.sdk -no-cpp-precomp -I/Library/Frameworks/R.framework/Resources/include -I/Library/Frameworks/R.framework/Resources/include/i386 -msse3 -D__NO_MATH_INLINES -fPIC -g -O2 -Wall -std=gnu99 -march=nocona -c matchprobes.c -o matchprobes.o
gcc-4.0 -arch i386 -isysroot /Developer/SDKs/MacOSX10.4u.sdk -no-cpp-precomp -I/Library/Frameworks/R.framework/Resources/include -I/Library/Frameworks/R.framework/Resources/include/i386 -msse3 -D__NO_MATH_INLINES -fPIC -g -O2 -Wall -std=gnu99 -march=nocona -c strutils.c -o strutils.o
gcc-4.0 -arch i386 -isysroot /Developer/SDKs/MacOSX10.4u.sdk -dynamiclib -Wl,-macosx_version_min -Wl,10.3 -undefined dynamic_lookup -single_module -multiply_defined suppress -L/usr/local/lib -o makePlatformDesign.so matchprobes.o strutils.o -F/Library/Frameworks/R.framework/.. -framework R
** arch - ppc
gcc-4.0 -arch ppc -isysroot /Developer/SDKs/MacOSX10.4u.sdk -std=gnu99 -no-cpp-precomp -I/Library/Frameworks/R.framework/Resources/include -I/Library/Frameworks/R.framework/Resources/include/ppc -I/usr/local/include -fPIC -g -O2 -Wall -c matchprobes.c -o matchprobes.o
gcc-4.0 -arch ppc -isysroot /Developer/SDKs/MacOSX10.4u.sdk -std=gnu99 -no-cpp-precomp -I/Library/Frameworks/R.framework/Resources/include -I/Library/Frameworks/R.framework/Resources/include/ppc -I/usr/local/include -fPIC -g -O2 -Wall -c strutils.c -o strutils.o
gcc-4.0 -arch ppc -isysroot /Developer/SDKs/MacOSX10.4u.sdk -std=gnu99 -dynamiclib -Wl,-macosx_version_min -Wl,10.3 -undefined dynamic_lookup -single_module -multiply_defined suppress -L/usr/local/lib -o makePlatformDesign.so matchprobes.o strutils.o -F/Library/Frameworks/R.framework/.. -framework R
** R
** inst
** preparing package for lazy loading
Loading required package: affyio
Loading required package: oligo
Loading required package: Biobase
Loading required package: tools
Welcome to Bioconductor
Vignettes contain introductory material. To view, type
'openVignette()'. To cite Bioconductor, see
'citation("Biobase")' and for packages 'citation(pkgname)'.
Loading required package: splines
Loading required package: RSQLite
Loading required package: DBI
Loading required package: BufferedMatrix
Loading required package: BufferedMatrixMethods
Loading required package: preprocessCore
Loading required package: AnnotationDbi
Loading required package: affxparser
This is the oligo package
** help
>>> Building/Updating help pages for package 'makePlatformDesign'
Formats: text html latex example
makePDpackage text html latex example
makePlatformDesign-internal text html latex
** building package indices ...
* DONE (makePlatformDesign)