Back to the "Multiple platform build/check report"
| Package 25/234 | Hostname | OS | Arch | BUILD | CHECK | BUILD BIN | 
| arrayQualityMetrics 1.2.0 Audrey Kauffmann Last Changed Date: 2007-10-02 17:41:09 -0700 Last Changed Rev: 27709  | lamb1 | Linux (SUSE 10.1) | x86_64 | [ OK ] | OK | |
| wellington | Linux (SUSE 9.2) | i686 | OK | OK | ||
| liverpool | Windows Server 2003 R2 (32-bit) | x64 | OK | OK | OK | |
| pitt | Mac OS X (10.4.10) | i386 | OK | OK | OK | 
| Package: arrayQualityMetrics | 
| Version: 1.2.0 | 
| Command: /home/biocbuild/bbs-2.1-bioc/R/bin/R CMD build arrayQualityMetrics | 
| RetCode: 0 | 
| Time: 81.5 seconds | 
| Status: OK | 
| PackageFile: arrayQualityMetrics_1.2.0.tar.gz | 
* checking for file 'arrayQualityMetrics/DESCRIPTION' ... OK
* preparing 'arrayQualityMetrics':
* checking DESCRIPTION meta-information ... OK
* installing the package to re-build vignettes
* Installing *source* package 'arrayQualityMetrics' ...
** R
** inst
** preparing package for lazy loading
Loading required package: Biobase
Loading required package: tools
Welcome to Bioconductor
  Vignettes contain introductory material. To view, type
  'openVignette()'. To cite Bioconductor, see
  'citation("Biobase")' and for packages 'citation(pkgname)'.
Loading required package: geneplotter
Loading required package: annotate
Loading required package: AnnotationDbi
Loading required package: DBI
Loading required package: RSQLite
Loading required package: xtable
Loading required package: lattice
KernSmooth 2.22 installed
Copyright M. P. Wand 1997
Loading required package: genefilter
Loading required package: survival
Loading required package: splines
Loading required package: vsn
Loading required package: affy
Loading required package: affyio
Loading required package: preprocessCore
Loading required package: limma
Loading required package: RColorBrewer
Loading required package: affyPLM
Loading required package: gcrma
Loading required package: matchprobes
Loading required package: simpleaffy
Loading required package: CCl4
Loading required package: latticeExtra
Loading required package: grid
** help
 >>> Building/Updating help pages for package 'arrayQualityMetrics'
     Formats: text html latex example 
  XYfromGAL                         text    html    latex
  arrayQualityMetrics               text    html    latex   example
** building package indices ...
* DONE (arrayQualityMetrics)
* creating vignettes ... OK
* removing junk files
* checking for LF line-endings in source and make files
* checking for empty or unneeded directories
* building 'arrayQualityMetrics_1.2.0.tar.gz'