Back to the "Multiple platform build/check report"
| Package 69/234 | Hostname | OS | Arch | BUILD | CHECK | BUILD BIN |
| factDesign 1.12.0 Denise Scholtens Last Changed Date: 2007-10-02 17:41:09 -0700 Last Changed Rev: 27709 | lamb1 | Linux (SUSE 10.1) | x86_64 | [ OK ] | OK | |
| wellington | Linux (SUSE 9.2) | i686 | OK | OK | ||
| liverpool | Windows Server 2003 R2 (32-bit) | x64 | OK | OK | OK | |
| pitt | Mac OS X (10.4.10) | i386 | OK | OK | OK |
| Package: factDesign |
| Version: 1.12.0 |
| Command: /home/biocbuild/bbs-2.1-bioc/R/bin/R CMD build factDesign |
| RetCode: 0 |
| Time: 11.5 seconds |
| Status: OK |
| PackageFile: factDesign_1.12.0.tar.gz |
* checking for file 'factDesign/DESCRIPTION' ... OK
* preparing 'factDesign':
* checking DESCRIPTION meta-information ... OK
* checking whether 'INDEX' is up-to-date ... NO
* use '--force' to overwrite the existing 'INDEX'
* installing the package to re-build vignettes
* Installing *source* package 'factDesign' ...
** R
** data
** inst
** help
>>> Building/Updating help pages for package 'factDesign'
Formats: text html latex example
contrasts text html latex example
estrogen text html latex example
findFC text html latex example
kRepsOverA text html latex example
outliers text html latex example
** building package indices ...
* DONE (factDesign)
* creating vignettes ... OK
* removing junk files
* checking for LF line-endings in source and make files
* checking for empty or unneeded directories
* building 'factDesign_1.12.0.tar.gz'