Back to the "Multiple platform build/check report"
| Package 156/234 | Hostname | OS | Arch | BUILD | CHECK | BUILD BIN |
| pathRender 1.6.0 Li Long Last Changed Date: 2007-10-02 17:41:09 -0700 Last Changed Rev: 27709 | lamb1 | Linux (SUSE 10.1) | x86_64 | [ OK ] | OK | |
| wellington | Linux (SUSE 9.2) | i686 | OK | OK | ||
| liverpool | Windows Server 2003 R2 (32-bit) | x64 | OK | WARNINGS | OK | |
| pitt | Mac OS X (10.4.10) | i386 | OK | OK | OK |
| Package: pathRender |
| Version: 1.6.0 |
| Command: /home/biocbuild/bbs-2.1-bioc/R/bin/R CMD build pathRender |
| RetCode: 0 |
| Time: 9.5 seconds |
| Status: OK |
| PackageFile: pathRender_1.6.0.tar.gz |
* checking for file 'pathRender/DESCRIPTION' ... OK
* preparing 'pathRender':
* checking DESCRIPTION meta-information ... OK
* installing the package to re-build vignettes
* Installing *source* package 'pathRender' ...
** R
** inst
** preparing package for lazy loading
Loading required package: graph
Loading required package: Rgraphviz
Loading required package: cMAP
** help
>>> Building/Updating help pages for package 'pathRender'
Formats: text html latex example
graphcMAP text html latex example
pwayGraph-class text html latex example
rendercMAP text html latex example
** building package indices ...
* DONE (pathRender)
* creating vignettes ... OK
* removing junk files
* checking for LF line-endings in source and make files
* checking for empty or unneeded directories
* building 'pathRender_1.6.0.tar.gz'